BEGIN:VCALENDAR
VERSION:2.0
PRODID:-//Asociación Nacional de Parques y Recreación de México - ECPv6.15.20//NONSGML v1.0//EN
CALSCALE:GREGORIAN
METHOD:PUBLISH
X-ORIGINAL-URL:https://anpr.org.mx
X-WR-CALDESC:Eventos para Asociación Nacional de Parques y Recreación de México
REFRESH-INTERVAL;VALUE=DURATION:PT1H
X-Robots-Tag:noindex
X-PUBLISHED-TTL:PT1H
BEGIN:VTIMEZONE
TZID:America/Chicago
BEGIN:DAYLIGHT
TZOFFSETFROM:-0600
TZOFFSETTO:-0500
TZNAME:CDT
DTSTART:20240310T080000
END:DAYLIGHT
BEGIN:STANDARD
TZOFFSETFROM:-0500
TZOFFSETTO:-0600
TZNAME:CST
DTSTART:20241103T070000
END:STANDARD
BEGIN:DAYLIGHT
TZOFFSETFROM:-0600
TZOFFSETTO:-0500
TZNAME:CDT
DTSTART:20250309T080000
END:DAYLIGHT
BEGIN:STANDARD
TZOFFSETFROM:-0500
TZOFFSETTO:-0600
TZNAME:CST
DTSTART:20251102T070000
END:STANDARD
BEGIN:DAYLIGHT
TZOFFSETFROM:-0600
TZOFFSETTO:-0500
TZNAME:CDT
DTSTART:20260308T080000
END:DAYLIGHT
BEGIN:STANDARD
TZOFFSETFROM:-0500
TZOFFSETTO:-0600
TZNAME:CST
DTSTART:20261101T070000
END:STANDARD
END:VTIMEZONE
BEGIN:VEVENT
DTSTART;TZID=America/Chicago:20251024T183000
DTEND;TZID=America/Chicago:20251024T210000
DTSTAMP:20260421T044633
CREATED:20251020T164910Z
LAST-MODIFIED:20251020T164910Z
UID:334767-1761330600-1761339600@anpr.org.mx
SUMMARY:Opera Picnic 2025 Extramuros
DESCRIPTION:
URL:https://anpr.org.mx/evento/opera-picnic-2025-extramuros/
LOCATION:Parque Metropolitano de León\, Prol. Blvd. Adolfo López Mateos Nte. s/n Col. El Palote\, León Guanajuato.\, León\, Guanajuato\, 37130\, Mexico
ORGANIZER;CN="Parque Metropolitano de Le%C3%B3n":MAILTO:oficialia@parquemetroleon.gob.mx
END:VEVENT
END:VCALENDAR